BEGIN:VCALENDAR
VERSION:2.0
PRODID:-//communityofcarend.com//NONSGML kigkonsult.se iCalcreator 2.30.10/
 /
CALSCALE:GREGORIAN
METHOD:PUBLISH
UID:49a44365-1ada-42be-9c0f-b61db1a50893
X-WR-CALDESC:Low impact exercise class
X-WR-RELCALID:7022fd0b359b829177af1dee0f4bf01b
X-WR-TIMEZONE:America/Chicago
BEGIN:VTIMEZONE
TZID:America/Chicago
BEGIN:STANDARD
TZNAME:CST
DTSTART:20271107T020000
TZOFFSETFROM:-0500
TZOFFSETTO:-0600
RDATE:20281105T020000
RDATE:20291104T020000
END:STANDARD
BEGIN:DAYLIGHT
TZNAME:CDT
DTSTART:20280312T020000
TZOFFSETFROM:-0600
TZOFFSETTO:-0500
RDATE:20290311T020000
END:DAYLIGHT
END:VTIMEZONE
BEGIN:VEVENT
UID:c19abf0d-6c31-45a9-82ab-fae1af1c1324
DTSTAMP:20260421T025551Z
DESCRIPTION:Low impact exercise class
DTSTART;TZID=America/Chicago:20280522T103000
DTEND;TZID=America/Chicago:20280522T113000
LOCATION:Kindred City Hall
SUMMARY:Kindred Bone Builders
END:VEVENT
END:VCALENDAR
