BEGIN:VCALENDAR
VERSION:2.0
PRODID:-//communityofcarend.com//NONSGML kigkonsult.se iCalcreator 2.30.10/
 /
CALSCALE:GREGORIAN
METHOD:PUBLISH
UID:0e2854ec-849c-4c8b-9044-9fc8c811130c
X-WR-CALDESC:
X-WR-RELCALID:4a414b8172cdbad18424198eb64c6c11
X-WR-TIMEZONE:America/Chicago
BEGIN:VTIMEZONE
TZID:America/Chicago
BEGIN:STANDARD
TZNAME:CST
DTSTART:20271107T020000
TZOFFSETFROM:-0500
TZOFFSETTO:-0600
RDATE:20281105T020000
RDATE:20291104T020000
END:STANDARD
BEGIN:DAYLIGHT
TZNAME:CDT
DTSTART:20280312T020000
TZOFFSETFROM:-0600
TZOFFSETTO:-0500
RDATE:20290311T020000
END:DAYLIGHT
END:VTIMEZONE
BEGIN:VEVENT
UID:3540595c-1cc0-4b49-bd1e-2dc54ef4440d
DTSTAMP:20260421T025807Z
DESCRIPTION:
DTSTART;TZID=America/Chicago:20280518T130000
DTEND;TZID=America/Chicago:20280518T140000
LOCATION:Harwood Community Center
SUMMARY:Harwood Bone Builders
END:VEVENT
END:VCALENDAR
