BEGIN:VCALENDAR
VERSION:2.0
PRODID:-//communityofcarend.com//NONSGML kigkonsult.se iCalcreator 2.30.10/
 /
CALSCALE:GREGORIAN
METHOD:PUBLISH
UID:601a4cbc-dc03-42d4-b9bc-c5e8f67cdb1b
X-WR-CALDESC:Low impact exercise class
X-WR-RELCALID:d946da55e216d4b78b9f58bd28a0ef20
X-WR-TIMEZONE:America/Chicago
BEGIN:VTIMEZONE
TZID:America/Chicago
BEGIN:STANDARD
TZNAME:CST
DTSTART:20271107T020000
TZOFFSETFROM:-0500
TZOFFSETTO:-0600
RDATE:20281105T020000
RDATE:20291104T020000
END:STANDARD
BEGIN:DAYLIGHT
TZNAME:CDT
DTSTART:20280312T020000
TZOFFSETFROM:-0600
TZOFFSETTO:-0500
RDATE:20290311T020000
END:DAYLIGHT
END:VTIMEZONE
BEGIN:VEVENT
UID:56ef5923-eadb-4194-bb4a-61fab9c67927
DTSTAMP:20260421T025627Z
DESCRIPTION:Low impact exercise class
DTSTART;TZID=America/Chicago:20280515T103000
DTEND;TZID=America/Chicago:20280515T113000
LOCATION:Kindred City Hall
SUMMARY:Kindred Bone Builders
END:VEVENT
END:VCALENDAR
