BEGIN:VCALENDAR
VERSION:2.0
PRODID:-//communityofcarend.com//NONSGML kigkonsult.se iCalcreator 2.30.10/
 /
CALSCALE:GREGORIAN
METHOD:PUBLISH
UID:8a15e88d-f0a2-4f53-9dfc-140d22f43d2c
X-WR-CALDESC:Bone Builder Exercise Class
X-WR-RELCALID:61aa665246ccfdb108dc02c84c0b08bf
X-WR-TIMEZONE:America/Chicago
BEGIN:VTIMEZONE
TZID:America/Chicago
BEGIN:STANDARD
TZNAME:CST
DTSTART:20271107T020000
TZOFFSETFROM:-0500
TZOFFSETTO:-0600
RDATE:20281105T020000
RDATE:20291104T020000
END:STANDARD
BEGIN:DAYLIGHT
TZNAME:CDT
DTSTART:20280312T020000
TZOFFSETFROM:-0600
TZOFFSETTO:-0500
RDATE:20290311T020000
END:DAYLIGHT
END:VTIMEZONE
BEGIN:VEVENT
UID:973f1010-15ea-4c7c-a3ac-55033bed53b3
DTSTAMP:20260421T025555Z
DESCRIPTION:Bone Builder Exercise Class
DTSTART;TZID=America/Chicago:20280515T100000
DTEND;TZID=America/Chicago:20280515T110000
LOCATION:Horace Senior Center
SUMMARY:Horace Bone Builders
END:VEVENT
END:VCALENDAR
