BEGIN:VCALENDAR
VERSION:2.0
PRODID:-//communityofcarend.com//NONSGML kigkonsult.se iCalcreator 2.30.10/
 /
CALSCALE:GREGORIAN
METHOD:PUBLISH
UID:473a52aa-7d84-4842-ba07-2cc55d023774
X-WR-CALDESC:Low impact exercise class
X-WR-RELCALID:e7142c5a3e48a1fef463552011c49833
X-WR-TIMEZONE:America/Chicago
BEGIN:VTIMEZONE
TZID:America/Chicago
BEGIN:STANDARD
TZNAME:CST
DTSTART:20271107T020000
TZOFFSETFROM:-0500
TZOFFSETTO:-0600
RDATE:20281105T020000
RDATE:20291104T020000
END:STANDARD
BEGIN:DAYLIGHT
TZNAME:CDT
DTSTART:20280312T020000
TZOFFSETFROM:-0600
TZOFFSETTO:-0500
RDATE:20290311T020000
END:DAYLIGHT
END:VTIMEZONE
BEGIN:VEVENT
UID:3d8b7957-650d-4e99-9bc2-755db0b68f2e
DTSTAMP:20260421T025504Z
DESCRIPTION:Low impact exercise class
DTSTART;TZID=America/Chicago:20280508T103000
DTEND;TZID=America/Chicago:20280508T113000
LOCATION:Kindred City Hall
SUMMARY:Kindred Bone Builders
END:VEVENT
END:VCALENDAR
