BEGIN:VCALENDAR
VERSION:2.0
PRODID:-//communityofcarend.com//NONSGML kigkonsult.se iCalcreator 2.30.10/
 /
CALSCALE:GREGORIAN
METHOD:PUBLISH
UID:c24d48b8-c505-4e39-9a62-d9dd681acdec
X-WR-CALDESC:Bone Builder Exercise Class
X-WR-RELCALID:26965a4cf8c17df7d51eeb659c01fe21
X-WR-TIMEZONE:America/Chicago
BEGIN:VTIMEZONE
TZID:America/Chicago
BEGIN:STANDARD
TZNAME:CST
DTSTART:20271107T020000
TZOFFSETFROM:-0500
TZOFFSETTO:-0600
RDATE:20281105T020000
END:STANDARD
BEGIN:DAYLIGHT
TZNAME:CDT
DTSTART:20280312T020000
TZOFFSETFROM:-0600
TZOFFSETTO:-0500
RDATE:20290311T020000
END:DAYLIGHT
END:VTIMEZONE
BEGIN:VEVENT
UID:fb092b83-8c80-4818-a597-233a5b61e956
DTSTAMP:20260421T025551Z
DESCRIPTION:Bone Builder Exercise Class
DTSTART;TZID=America/Chicago:20280501T100000
DTEND;TZID=America/Chicago:20280501T110000
LOCATION:Horace Senior Center
SUMMARY:Horace Bone Builders
END:VEVENT
END:VCALENDAR
