BEGIN:VCALENDAR
VERSION:2.0
PRODID:-//communityofcarend.com//NONSGML kigkonsult.se iCalcreator 2.30.10/
 /
CALSCALE:GREGORIAN
METHOD:PUBLISH
UID:f57ed1cf-9cc5-4ec7-93bc-ea05762b0536
X-WR-CALDESC:
X-WR-RELCALID:ecd50ff25bbf2aa4c5936aac437d660f
X-WR-TIMEZONE:America/Chicago
BEGIN:VTIMEZONE
TZID:America/Chicago
BEGIN:STANDARD
TZNAME:CST
DTSTART:20271107T020000
TZOFFSETFROM:-0500
TZOFFSETTO:-0600
RDATE:20281105T020000
END:STANDARD
BEGIN:DAYLIGHT
TZNAME:CDT
DTSTART:20280312T020000
TZOFFSETFROM:-0600
TZOFFSETTO:-0500
RDATE:20290311T020000
END:DAYLIGHT
END:VTIMEZONE
BEGIN:VEVENT
UID:5ea4bd76-a023-4c83-aeb4-6a1925fc2468
DTSTAMP:20260421T025801Z
DESCRIPTION:
DTSTART;TZID=America/Chicago:20280501T093000
DTEND;TZID=America/Chicago:20280501T103000
LOCATION:Davenport School
SUMMARY:Davenport Bone Builders
END:VEVENT
END:VCALENDAR
