BEGIN:VCALENDAR
VERSION:2.0
PRODID:-//communityofcarend.com//NONSGML kigkonsult.se iCalcreator 2.30.10/
 /
CALSCALE:GREGORIAN
METHOD:PUBLISH
UID:532d5c15-a1b7-43a6-8ade-8c76445d19b8
X-WR-CALDESC:Low-impact exercise classes.
X-WR-RELCALID:b600163e1048485606f02daa3df1d071
X-WR-TIMEZONE:America/Chicago
BEGIN:VTIMEZONE
TZID:America/Chicago
BEGIN:STANDARD
TZNAME:CST
DTSTART:20271107T020000
TZOFFSETFROM:-0500
TZOFFSETTO:-0600
RDATE:20281105T020000
END:STANDARD
BEGIN:DAYLIGHT
TZNAME:CDT
DTSTART:20280312T020000
TZOFFSETFROM:-0600
TZOFFSETTO:-0500
RDATE:20290311T020000
END:DAYLIGHT
END:VTIMEZONE
BEGIN:VEVENT
UID:44d3249d-fb80-4413-a59a-da13788ac9a8
DTSTAMP:20260421T011910Z
DESCRIPTION:Low-impact exercise classes.
DTSTART;TZID=America/Chicago:20280421T103000
DTEND;TZID=America/Chicago:20280421T113000
LOCATION:Kindred City Hall
SUMMARY:Kindred Bone Builders
END:VEVENT
END:VCALENDAR
