BEGIN:VCALENDAR
VERSION:2.0
PRODID:-//communityofcarend.com//NONSGML kigkonsult.se iCalcreator 2.30.10/
 /
CALSCALE:GREGORIAN
METHOD:PUBLISH
UID:b86eb098-b0e4-40ba-8bd0-23bdf1104e49
X-WR-CALDESC:Low impact exercise class
X-WR-RELCALID:5bc33f212dd42ef6cda2f3c5ecdcb18c
X-WR-TIMEZONE:America/Chicago
BEGIN:VTIMEZONE
TZID:America/Chicago
BEGIN:STANDARD
TZNAME:CST
DTSTART:20271107T020000
TZOFFSETFROM:-0500
TZOFFSETTO:-0600
RDATE:20281105T020000
END:STANDARD
BEGIN:DAYLIGHT
TZNAME:CDT
DTSTART:20280312T020000
TZOFFSETFROM:-0600
TZOFFSETTO:-0500
RDATE:20290311T020000
END:DAYLIGHT
END:VTIMEZONE
BEGIN:VEVENT
UID:ed6b439e-0f71-4894-aa77-b89682005b9b
DTSTAMP:20260421T012208Z
DESCRIPTION:Low impact exercise class
DTSTART;TZID=America/Chicago:20280417T103000
DTEND;TZID=America/Chicago:20280417T113000
LOCATION:Kindred City Hall
SUMMARY:Kindred Bone Builders
END:VEVENT
END:VCALENDAR
