BEGIN:VCALENDAR
VERSION:2.0
PRODID:-//communityofcarend.com//NONSGML kigkonsult.se iCalcreator 2.30.10/
 /
CALSCALE:GREGORIAN
METHOD:PUBLISH
UID:496844b1-57b8-42da-a446-8e3e04c0d85d
X-WR-CALDESC:Low-impact exercise classes.
X-WR-RELCALID:efcb7447f4fd0d1738138944dac849c7
X-WR-TIMEZONE:America/Chicago
BEGIN:VTIMEZONE
TZID:America/Chicago
BEGIN:STANDARD
TZNAME:CST
DTSTART:20271107T020000
TZOFFSETFROM:-0500
TZOFFSETTO:-0600
RDATE:20281105T020000
END:STANDARD
BEGIN:DAYLIGHT
TZNAME:CDT
DTSTART:20280312T020000
TZOFFSETFROM:-0600
TZOFFSETTO:-0500
RDATE:20290311T020000
END:DAYLIGHT
END:VTIMEZONE
BEGIN:VEVENT
UID:b42db7e7-6ac4-4a0e-afb5-dfe09dce18e8
DTSTAMP:20260421T012132Z
DESCRIPTION:Low-impact exercise classes.
DTSTART;TZID=America/Chicago:20280407T103000
DTEND;TZID=America/Chicago:20280407T113000
LOCATION:Kindred City Hall
SUMMARY:Kindred Bone Builders
END:VEVENT
END:VCALENDAR
