BEGIN:VCALENDAR
VERSION:2.0
PRODID:-//communityofcarend.com//NONSGML kigkonsult.se iCalcreator 2.30.10/
 /
CALSCALE:GREGORIAN
METHOD:PUBLISH
UID:79fba654-4a67-487a-a6fd-9a869071a759
X-WR-CALDESC:Bone Builder Exercise Class
X-WR-RELCALID:2ffb39dc6b86c7bb9184d6e9c372f76e
X-WR-TIMEZONE:America/Chicago
BEGIN:VTIMEZONE
TZID:America/Chicago
BEGIN:STANDARD
TZNAME:CST
DTSTART:20271107T020000
TZOFFSETFROM:-0500
TZOFFSETTO:-0600
RDATE:20281105T020000
END:STANDARD
BEGIN:DAYLIGHT
TZNAME:CDT
DTSTART:20280312T020000
TZOFFSETFROM:-0600
TZOFFSETTO:-0500
RDATE:20290311T020000
END:DAYLIGHT
END:VTIMEZONE
BEGIN:VEVENT
UID:993fb561-8d95-45de-a4c0-e63e4e86571a
DTSTAMP:20260421T012222Z
DESCRIPTION:Bone Builder Exercise Class
DTSTART;TZID=America/Chicago:20280406T100000
DTEND;TZID=America/Chicago:20280406T110000
LOCATION:Horace Senior Center
SUMMARY:Horace Bone Builders
END:VEVENT
END:VCALENDAR
