BEGIN:VCALENDAR
VERSION:2.0
PRODID:-//communityofcarend.com//NONSGML kigkonsult.se iCalcreator 2.30.10/
 /
CALSCALE:GREGORIAN
METHOD:PUBLISH
UID:4716cec0-7251-4865-a750-39c3f3acab68
X-WR-CALDESC:Bone Builder Exercise Class
X-WR-RELCALID:2864d0fe8ab192cd56059262778b9482
X-WR-TIMEZONE:America/Chicago
BEGIN:VTIMEZONE
TZID:America/Chicago
BEGIN:STANDARD
TZNAME:CST
DTSTART:20271107T020000
TZOFFSETFROM:-0500
TZOFFSETTO:-0600
RDATE:20281105T020000
END:STANDARD
BEGIN:DAYLIGHT
TZNAME:CDT
DTSTART:20280312T020000
TZOFFSETFROM:-0600
TZOFFSETTO:-0500
RDATE:20290311T020000
END:DAYLIGHT
END:VTIMEZONE
BEGIN:VEVENT
UID:f533bb7a-0eca-4d53-a49d-f665b6ddeada
DTSTAMP:20260421T012219Z
DESCRIPTION:Bone Builder Exercise Class
DTSTART;TZID=America/Chicago:20280403T100000
DTEND;TZID=America/Chicago:20280403T110000
LOCATION:Horace Senior Center
SUMMARY:Horace Bone Builders
END:VEVENT
END:VCALENDAR
