BEGIN:VCALENDAR
VERSION:2.0
PRODID:-//communityofcarend.com//NONSGML kigkonsult.se iCalcreator 2.30.10/
 /
CALSCALE:GREGORIAN
METHOD:PUBLISH
UID:b19ca3dc-7f9b-4e74-8b18-7f0864cc65aa
X-WR-CALDESC:Low-impact exercise classes.
X-WR-RELCALID:64083f512955be2801cf3482d8de6f72
X-WR-TIMEZONE:America/Chicago
BEGIN:VTIMEZONE
TZID:America/Chicago
BEGIN:STANDARD
TZNAME:CST
DTSTART:20271107T020000
TZOFFSETFROM:-0500
TZOFFSETTO:-0600
RDATE:20281105T020000
END:STANDARD
BEGIN:DAYLIGHT
TZNAME:CDT
DTSTART:20280312T020000
TZOFFSETFROM:-0600
TZOFFSETTO:-0500
RDATE:20290311T020000
END:DAYLIGHT
END:VTIMEZONE
BEGIN:VEVENT
UID:ed57b55d-a17c-490c-a7c5-0a3da0adf513
DTSTAMP:20260420T234307Z
DESCRIPTION:Low-impact exercise classes.
DTSTART;TZID=America/Chicago:20280331T103000
DTEND;TZID=America/Chicago:20280331T113000
LOCATION:Kindred City Hall
SUMMARY:Kindred Bone Builders
END:VEVENT
END:VCALENDAR
