BEGIN:VCALENDAR
VERSION:2.0
PRODID:-//communityofcarend.com//NONSGML kigkonsult.se iCalcreator 2.30.10/
 /
CALSCALE:GREGORIAN
METHOD:PUBLISH
UID:75cb5893-f2b4-43f2-9b72-0b6418e12bf3
X-WR-CALDESC:
X-WR-RELCALID:d1204cc50dc818b8dff5ebcf4f37f974
X-WR-TIMEZONE:America/Chicago
BEGIN:VTIMEZONE
TZID:America/Chicago
BEGIN:STANDARD
TZNAME:CST
DTSTART:20271107T020000
TZOFFSETFROM:-0500
TZOFFSETTO:-0600
RDATE:20281105T020000
END:STANDARD
BEGIN:DAYLIGHT
TZNAME:CDT
DTSTART:20280312T020000
TZOFFSETFROM:-0600
TZOFFSETTO:-0500
RDATE:20290311T020000
END:DAYLIGHT
END:VTIMEZONE
BEGIN:VEVENT
UID:3b6ab2d4-9ac2-4f5d-a084-0e41d10b4263
DTSTAMP:20260420T234450Z
DESCRIPTION:
DTSTART;TZID=America/Chicago:20280314T140000
DTEND;TZID=America/Chicago:20280314T150000
LOCATION:Casselton City Hall
SUMMARY:Casselton Bone Builders
END:VEVENT
END:VCALENDAR
