BEGIN:VCALENDAR
VERSION:2.0
PRODID:-//communityofcarend.com//NONSGML kigkonsult.se iCalcreator 2.30.10/
 /
CALSCALE:GREGORIAN
METHOD:PUBLISH
UID:04a5a8cb-dad2-4d40-9a60-29fc76577031
X-WR-CALDESC:Low-impact exercise classes.
X-WR-RELCALID:f5db39c0b7af28bf2dff485768dc61c3
X-WR-TIMEZONE:America/Chicago
BEGIN:VTIMEZONE
TZID:America/Chicago
BEGIN:STANDARD
TZNAME:CST
DTSTART:20271107T020000
TZOFFSETFROM:-0500
TZOFFSETTO:-0600
RDATE:20281105T020000
END:STANDARD
BEGIN:DAYLIGHT
TZNAME:CDT
DTSTART:20270314T020000
TZOFFSETFROM:-0600
TZOFFSETTO:-0500
RDATE:20280312T020000
RDATE:20290311T020000
END:DAYLIGHT
END:VTIMEZONE
BEGIN:VEVENT
UID:14f58e1a-d867-4afc-b48b-f34144b8094e
DTSTAMP:20260420T234124Z
DESCRIPTION:Low-impact exercise classes.
DTSTART;TZID=America/Chicago:20280310T103000
DTEND;TZID=America/Chicago:20280310T113000
LOCATION:Kindred City Hall
SUMMARY:Kindred Bone Builders
END:VEVENT
END:VCALENDAR
