BEGIN:VCALENDAR
VERSION:2.0
PRODID:-//communityofcarend.com//NONSGML kigkonsult.se iCalcreator 2.30.10/
 /
CALSCALE:GREGORIAN
METHOD:PUBLISH
UID:9639b398-8c6d-4bf0-acae-54399b5f9c8b
X-WR-CALDESC:Bone Builder Exercise Class
X-WR-RELCALID:ae2991b7c9d393975084afd52774b9bd
X-WR-TIMEZONE:America/Chicago
BEGIN:VTIMEZONE
TZID:America/Chicago
BEGIN:STANDARD
TZNAME:CST
DTSTART:20271107T020000
TZOFFSETFROM:-0500
TZOFFSETTO:-0600
RDATE:20281105T020000
END:STANDARD
BEGIN:DAYLIGHT
TZNAME:CDT
DTSTART:20270314T020000
TZOFFSETFROM:-0600
TZOFFSETTO:-0500
RDATE:20280312T020000
RDATE:20290311T020000
END:DAYLIGHT
END:VTIMEZONE
BEGIN:VEVENT
UID:464ad367-b389-41e0-a8e7-9a1687fc7ca2
DTSTAMP:20260420T220543Z
DESCRIPTION:Bone Builder Exercise Class
DTSTART;TZID=America/Chicago:20280228T100000
DTEND;TZID=America/Chicago:20280228T110000
LOCATION:Horace Senior Center
SUMMARY:Horace Bone Builders
END:VEVENT
END:VCALENDAR
