BEGIN:VCALENDAR
VERSION:2.0
PRODID:-//communityofcarend.com//NONSGML kigkonsult.se iCalcreator 2.30.10/
 /
CALSCALE:GREGORIAN
METHOD:PUBLISH
UID:7625b98f-bd7c-4d2c-b525-ebd1bf019872
X-WR-CALDESC:Bone Builder Exercise Class
X-WR-RELCALID:639862f0429098a399879d1f160f2ce6
X-WR-TIMEZONE:America/Chicago
BEGIN:VTIMEZONE
TZID:America/Chicago
BEGIN:STANDARD
TZNAME:CST
DTSTART:20271107T020000
TZOFFSETFROM:-0500
TZOFFSETTO:-0600
RDATE:20281105T020000
END:STANDARD
BEGIN:DAYLIGHT
TZNAME:CDT
DTSTART:20270314T020000
TZOFFSETFROM:-0600
TZOFFSETTO:-0500
RDATE:20280312T020000
RDATE:20290311T020000
END:DAYLIGHT
END:VTIMEZONE
BEGIN:VEVENT
UID:010c9470-48bf-4e19-a6dd-f0fae11b24da
DTSTAMP:20260420T220737Z
DESCRIPTION:Bone Builder Exercise Class
DTSTART;TZID=America/Chicago:20280224T100000
DTEND;TZID=America/Chicago:20280224T110000
LOCATION:Horace Senior Center
SUMMARY:Horace Bone Builders
END:VEVENT
END:VCALENDAR
