BEGIN:VCALENDAR
VERSION:2.0
PRODID:-//communityofcarend.com//NONSGML kigkonsult.se iCalcreator 2.30.10/
 /
CALSCALE:GREGORIAN
METHOD:PUBLISH
UID:cc3c6593-2d8c-4e1b-83f9-ded390694877
X-WR-CALDESC:Low-impact exercise classes.
X-WR-RELCALID:6285272e56cba5626ccf9d6bfcd63b80
X-WR-TIMEZONE:America/Chicago
BEGIN:VTIMEZONE
TZID:America/Chicago
BEGIN:STANDARD
TZNAME:CST
DTSTART:20271107T020000
TZOFFSETFROM:-0500
TZOFFSETTO:-0600
RDATE:20281105T020000
END:STANDARD
BEGIN:DAYLIGHT
TZNAME:CDT
DTSTART:20270314T020000
TZOFFSETFROM:-0600
TZOFFSETTO:-0500
RDATE:20280312T020000
RDATE:20290311T020000
END:DAYLIGHT
END:VTIMEZONE
BEGIN:VEVENT
UID:a68c79c2-de38-4b43-88e5-c300bd438312
DTSTAMP:20260420T220412Z
DESCRIPTION:Low-impact exercise classes.
DTSTART;TZID=America/Chicago:20280211T103000
DTEND;TZID=America/Chicago:20280211T113000
LOCATION:Kindred City Hall
SUMMARY:Kindred Bone Builders
END:VEVENT
END:VCALENDAR
