BEGIN:VCALENDAR
VERSION:2.0
PRODID:-//communityofcarend.com//NONSGML kigkonsult.se iCalcreator 2.30.10/
 /
CALSCALE:GREGORIAN
METHOD:PUBLISH
UID:834ec0d8-d614-4003-8eef-cfed3fd6398b
X-WR-CALDESC:Low-impact exercise classes.
X-WR-RELCALID:5bdd237540e8c67a092c392806607969
X-WR-TIMEZONE:America/Chicago
BEGIN:VTIMEZONE
TZID:America/Chicago
BEGIN:STANDARD
TZNAME:CST
DTSTART:20271107T020000
TZOFFSETFROM:-0500
TZOFFSETTO:-0600
RDATE:20281105T020000
END:STANDARD
BEGIN:DAYLIGHT
TZNAME:CDT
DTSTART:20270314T020000
TZOFFSETFROM:-0600
TZOFFSETTO:-0500
RDATE:20280312T020000
RDATE:20290311T020000
END:DAYLIGHT
END:VTIMEZONE
BEGIN:VEVENT
UID:ef6458ef-a19f-4d65-b8e4-c5120467a015
DTSTAMP:20260420T220418Z
DESCRIPTION:Low-impact exercise classes.
DTSTART;TZID=America/Chicago:20280204T103000
DTEND;TZID=America/Chicago:20280204T113000
LOCATION:Kindred City Hall
SUMMARY:Kindred Bone Builders
END:VEVENT
END:VCALENDAR
