BEGIN:VCALENDAR
VERSION:2.0
PRODID:-//communityofcarend.com//NONSGML kigkonsult.se iCalcreator 2.30.10/
 /
CALSCALE:GREGORIAN
METHOD:PUBLISH
UID:c6dd35bf-c028-4dd4-9dec-4822650bc4dc
X-WR-CALDESC:Low impact exercise class
X-WR-RELCALID:f787cf7feab1683425a41d5a7d4c7f21
X-WR-TIMEZONE:America/Chicago
BEGIN:VTIMEZONE
TZID:America/Chicago
BEGIN:STANDARD
TZNAME:CST
DTSTART:20271107T020000
TZOFFSETFROM:-0500
TZOFFSETTO:-0600
RDATE:20281105T020000
END:STANDARD
BEGIN:DAYLIGHT
TZNAME:CDT
DTSTART:20270314T020000
TZOFFSETFROM:-0600
TZOFFSETTO:-0500
RDATE:20280312T020000
RDATE:20290311T020000
END:DAYLIGHT
END:VTIMEZONE
BEGIN:VEVENT
UID:99a8f140-91be-4b8b-93c7-4e5239e2dad3
DTSTAMP:20260420T202813Z
DESCRIPTION:Low impact exercise class
DTSTART;TZID=America/Chicago:20280131T103000
DTEND;TZID=America/Chicago:20280131T113000
LOCATION:Kindred City Hall
SUMMARY:Kindred Bone Builders
END:VEVENT
END:VCALENDAR
