BEGIN:VCALENDAR
VERSION:2.0
PRODID:-//communityofcarend.com//NONSGML kigkonsult.se iCalcreator 2.30.10/
 /
CALSCALE:GREGORIAN
METHOD:PUBLISH
UID:a47885df-de0a-465c-9371-031e979447b2
X-WR-CALDESC:Low-impact exercise classes.
X-WR-RELCALID:f0140508c83f3193828997f4d9a9fee7
X-WR-TIMEZONE:America/Chicago
BEGIN:VTIMEZONE
TZID:America/Chicago
BEGIN:STANDARD
TZNAME:CST
DTSTART:20271107T020000
TZOFFSETFROM:-0500
TZOFFSETTO:-0600
RDATE:20281105T020000
END:STANDARD
BEGIN:DAYLIGHT
TZNAME:CDT
DTSTART:20270314T020000
TZOFFSETFROM:-0600
TZOFFSETTO:-0500
RDATE:20280312T020000
RDATE:20290311T020000
END:DAYLIGHT
END:VTIMEZONE
BEGIN:VEVENT
UID:ce244ad4-5ae0-4b15-b28e-995f13d30ffc
DTSTAMP:20260420T202724Z
DESCRIPTION:Low-impact exercise classes.
DTSTART;TZID=America/Chicago:20280128T103000
DTEND;TZID=America/Chicago:20280128T113000
LOCATION:Kindred City Hall
SUMMARY:Kindred Bone Builders
END:VEVENT
END:VCALENDAR
