BEGIN:VCALENDAR
VERSION:2.0
PRODID:-//communityofcarend.com//NONSGML kigkonsult.se iCalcreator 2.30.10/
 /
CALSCALE:GREGORIAN
METHOD:PUBLISH
UID:a04ff32a-c14e-4968-a7bb-67a5489669e2
X-WR-CALDESC:Bone Builder Exercise Class
X-WR-RELCALID:87fd9cdfb63fb318d388d0843750f432
X-WR-TIMEZONE:America/Chicago
BEGIN:VTIMEZONE
TZID:America/Chicago
BEGIN:STANDARD
TZNAME:CST
DTSTART:20271107T020000
TZOFFSETFROM:-0500
TZOFFSETTO:-0600
RDATE:20281105T020000
END:STANDARD
BEGIN:DAYLIGHT
TZNAME:CDT
DTSTART:20270314T020000
TZOFFSETFROM:-0600
TZOFFSETTO:-0500
RDATE:20280312T020000
RDATE:20290311T020000
END:DAYLIGHT
END:VTIMEZONE
BEGIN:VEVENT
UID:a220aaa8-e0a7-4808-81d3-60d1d236278c
DTSTAMP:20260420T202811Z
DESCRIPTION:Bone Builder Exercise Class
DTSTART;TZID=America/Chicago:20280120T100000
DTEND;TZID=America/Chicago:20280120T110000
LOCATION:Horace Senior Center
SUMMARY:Horace Bone Builders
END:VEVENT
END:VCALENDAR
