BEGIN:VCALENDAR
VERSION:2.0
PRODID:-//communityofcarend.com//NONSGML kigkonsult.se iCalcreator 2.30.10/
 /
CALSCALE:GREGORIAN
METHOD:PUBLISH
UID:ea449025-0168-428d-924b-b0e7b6c3d93b
X-WR-CALDESC:Bone Builder Exercise Class
X-WR-RELCALID:449a8a0d99cc25780e318194664ae9a2
X-WR-TIMEZONE:America/Chicago
BEGIN:VTIMEZONE
TZID:America/Chicago
BEGIN:STANDARD
TZNAME:CST
DTSTART:20271107T020000
TZOFFSETFROM:-0500
TZOFFSETTO:-0600
RDATE:20281105T020000
END:STANDARD
BEGIN:DAYLIGHT
TZNAME:CDT
DTSTART:20270314T020000
TZOFFSETFROM:-0600
TZOFFSETTO:-0500
RDATE:20280312T020000
RDATE:20290311T020000
END:DAYLIGHT
END:VTIMEZONE
BEGIN:VEVENT
UID:a8d34dda-0042-49bf-87f7-2a65e35ce1a9
DTSTAMP:20260420T202909Z
DESCRIPTION:Bone Builder Exercise Class
DTSTART;TZID=America/Chicago:20280117T100000
DTEND;TZID=America/Chicago:20280117T110000
LOCATION:Horace Senior Center
SUMMARY:Horace Bone Builders
END:VEVENT
END:VCALENDAR
