BEGIN:VCALENDAR
VERSION:2.0
PRODID:-//communityofcarend.com//NONSGML kigkonsult.se iCalcreator 2.30.10/
 /
CALSCALE:GREGORIAN
METHOD:PUBLISH
UID:8a524759-7be1-48d3-85ab-03de7bb5ec5e
X-WR-CALDESC:Low impact exercise class
X-WR-RELCALID:7efeef3963f46781598df4fc633ae398
X-WR-TIMEZONE:America/Chicago
BEGIN:VTIMEZONE
TZID:America/Chicago
BEGIN:STANDARD
TZNAME:CST
DTSTART:20271107T020000
TZOFFSETFROM:-0500
TZOFFSETTO:-0600
RDATE:20281105T020000
END:STANDARD
BEGIN:DAYLIGHT
TZNAME:CDT
DTSTART:20270314T020000
TZOFFSETFROM:-0600
TZOFFSETTO:-0500
RDATE:20280312T020000
RDATE:20290311T020000
END:DAYLIGHT
END:VTIMEZONE
BEGIN:VEVENT
UID:bbc35771-eb27-4e0b-82f9-009bd2bbe4f5
DTSTAMP:20260420T202811Z
DESCRIPTION:Low impact exercise class
DTSTART;TZID=America/Chicago:20280103T103000
DTEND;TZID=America/Chicago:20280103T113000
LOCATION:Kindred City Hall
SUMMARY:Kindred Bone Builders
END:VEVENT
END:VCALENDAR
