BEGIN:VCALENDAR
VERSION:2.0
PRODID:-//communityofcarend.com//NONSGML kigkonsult.se iCalcreator 2.30.10/
 /
CALSCALE:GREGORIAN
METHOD:PUBLISH
UID:b2791e38-3001-4747-9829-6cb24a1030e7
X-WR-CALDESC:Bone Builder Exercise Class
X-WR-RELCALID:a6e6973ae1625e8c1756e53d9e495c6d
X-WR-TIMEZONE:America/Chicago
BEGIN:VTIMEZONE
TZID:America/Chicago
BEGIN:STANDARD
TZNAME:CST
DTSTART:20271107T020000
TZOFFSETFROM:-0500
TZOFFSETTO:-0600
RDATE:20281105T020000
END:STANDARD
BEGIN:DAYLIGHT
TZNAME:CDT
DTSTART:20270314T020000
TZOFFSETFROM:-0600
TZOFFSETTO:-0500
RDATE:20280312T020000
RDATE:20290311T020000
END:DAYLIGHT
END:VTIMEZONE
BEGIN:VEVENT
UID:4c271dbe-ffef-4799-bb54-9951e86fed93
DTSTAMP:20260420T203129Z
DESCRIPTION:Bone Builder Exercise Class
DTSTART;TZID=America/Chicago:20280103T100000
DTEND;TZID=America/Chicago:20280103T110000
LOCATION:Horace Senior Center
SUMMARY:Horace Bone Builders
END:VEVENT
END:VCALENDAR
