BEGIN:VCALENDAR
VERSION:2.0
PRODID:-//communityofcarend.com//NONSGML kigkonsult.se iCalcreator 2.30.10/
 /
CALSCALE:GREGORIAN
METHOD:PUBLISH
UID:bfe74aae-ab96-47e8-8222-acbb8328acfc
X-WR-CALDESC:Bone Builder Exercise Class
X-WR-RELCALID:a392f07247aead4b95c1364d8d8f92dd
X-WR-TIMEZONE:America/Chicago
BEGIN:VTIMEZONE
TZID:America/Chicago
BEGIN:STANDARD
TZNAME:CST
DTSTART:20271107T020000
TZOFFSETFROM:-0500
TZOFFSETTO:-0600
RDATE:20281105T020000
END:STANDARD
BEGIN:DAYLIGHT
TZNAME:CDT
DTSTART:20270314T020000
TZOFFSETFROM:-0600
TZOFFSETTO:-0500
RDATE:20280312T020000
RDATE:20290311T020000
END:DAYLIGHT
END:VTIMEZONE
BEGIN:VEVENT
UID:37dc1c55-aeb2-4da2-9415-702ac1fbe990
DTSTAMP:20260420T190329Z
DESCRIPTION:Bone Builder Exercise Class
DTSTART;TZID=America/Chicago:20271223T100000
DTEND;TZID=America/Chicago:20271223T110000
LOCATION:Horace Senior Center
SUMMARY:Horace Bone Builders
END:VEVENT
END:VCALENDAR
