BEGIN:VCALENDAR
VERSION:2.0
PRODID:-//communityofcarend.com//NONSGML kigkonsult.se iCalcreator 2.30.10/
 /
CALSCALE:GREGORIAN
METHOD:PUBLISH
UID:315e8258-b243-44e4-bfc6-1fe4e9e18861
X-WR-CALDESC:Low-impact exercise classes.
X-WR-RELCALID:54c398b66f15a51eb599103f39acd43b
X-WR-TIMEZONE:America/Chicago
BEGIN:VTIMEZONE
TZID:America/Chicago
BEGIN:STANDARD
TZNAME:CST
DTSTART:20271107T020000
TZOFFSETFROM:-0500
TZOFFSETTO:-0600
RDATE:20281105T020000
END:STANDARD
BEGIN:DAYLIGHT
TZNAME:CDT
DTSTART:20270314T020000
TZOFFSETFROM:-0600
TZOFFSETTO:-0500
RDATE:20280312T020000
RDATE:20290311T020000
END:DAYLIGHT
END:VTIMEZONE
BEGIN:VEVENT
UID:d9154438-face-49c6-95f7-b0fde71f18bf
DTSTAMP:20260420T190252Z
DESCRIPTION:Low-impact exercise classes.
DTSTART;TZID=America/Chicago:20271217T103000
DTEND;TZID=America/Chicago:20271217T113000
LOCATION:Kindred City Hall
SUMMARY:Kindred Bone Builders
END:VEVENT
END:VCALENDAR
