BEGIN:VCALENDAR
VERSION:2.0
PRODID:-//communityofcarend.com//NONSGML kigkonsult.se iCalcreator 2.30.10/
 /
CALSCALE:GREGORIAN
METHOD:PUBLISH
UID:ff8ca6ab-e919-4835-b71b-f737eb50845a
X-WR-CALDESC:Bone Builder Exercise Class
X-WR-RELCALID:dd64eb603da0ed35a8bf718005057131
X-WR-TIMEZONE:America/Chicago
BEGIN:VTIMEZONE
TZID:America/Chicago
BEGIN:STANDARD
TZNAME:CST
DTSTART:20271107T020000
TZOFFSETFROM:-0500
TZOFFSETTO:-0600
RDATE:20281105T020000
END:STANDARD
BEGIN:DAYLIGHT
TZNAME:CDT
DTSTART:20270314T020000
TZOFFSETFROM:-0600
TZOFFSETTO:-0500
RDATE:20280312T020000
RDATE:20290311T020000
END:DAYLIGHT
END:VTIMEZONE
BEGIN:VEVENT
UID:1fcec87a-b500-4e23-9742-dcba31f370c2
DTSTAMP:20260420T190431Z
DESCRIPTION:Bone Builder Exercise Class
DTSTART;TZID=America/Chicago:20271209T100000
DTEND;TZID=America/Chicago:20271209T110000
LOCATION:Horace Senior Center
SUMMARY:Horace Bone Builders
END:VEVENT
END:VCALENDAR
