BEGIN:VCALENDAR
VERSION:2.0
PRODID:-//communityofcarend.com//NONSGML kigkonsult.se iCalcreator 2.30.10/
 /
CALSCALE:GREGORIAN
METHOD:PUBLISH
UID:6d78d1d1-9095-4f3e-9fcb-49db32400a32
X-WR-CALDESC:Bone Builder Exercise Class
X-WR-RELCALID:2404443e3df8c28e7d45203b5cb82c21
X-WR-TIMEZONE:America/Chicago
BEGIN:VTIMEZONE
TZID:America/Chicago
BEGIN:STANDARD
TZNAME:CST
DTSTART:20271107T020000
TZOFFSETFROM:-0500
TZOFFSETTO:-0600
RDATE:20281105T020000
END:STANDARD
BEGIN:DAYLIGHT
TZNAME:CDT
DTSTART:20270314T020000
TZOFFSETFROM:-0600
TZOFFSETTO:-0500
RDATE:20280312T020000
RDATE:20290311T020000
END:DAYLIGHT
END:VTIMEZONE
BEGIN:VEVENT
UID:61bb24a2-6bf4-4eb3-9af7-5a12f4e5cf8d
DTSTAMP:20260420T190433Z
DESCRIPTION:Bone Builder Exercise Class
DTSTART;TZID=America/Chicago:20271206T100000
DTEND;TZID=America/Chicago:20271206T110000
LOCATION:Horace Senior Center
SUMMARY:Horace Bone Builders
END:VEVENT
END:VCALENDAR
