BEGIN:VCALENDAR
VERSION:2.0
PRODID:-//communityofcarend.com//NONSGML kigkonsult.se iCalcreator 2.30.10/
 /
CALSCALE:GREGORIAN
METHOD:PUBLISH
UID:e31d002d-bc9f-4da1-9e40-260ee527e8b0
X-WR-CALDESC:Low impact exercise class
X-WR-RELCALID:6ecb718a41937fc0118680a7dbc89664
X-WR-TIMEZONE:America/Chicago
BEGIN:VTIMEZONE
TZID:America/Chicago
BEGIN:STANDARD
TZNAME:CST
DTSTART:20271107T020000
TZOFFSETFROM:-0500
TZOFFSETTO:-0600
RDATE:20281105T020000
END:STANDARD
BEGIN:DAYLIGHT
TZNAME:CDT
DTSTART:20270314T020000
TZOFFSETFROM:-0600
TZOFFSETTO:-0500
RDATE:20280312T020000
RDATE:20290311T020000
END:DAYLIGHT
END:VTIMEZONE
BEGIN:VEVENT
UID:e31550b8-38e0-48c5-b6e5-4e097db4b4c9
DTSTAMP:20260420T172743Z
DESCRIPTION:Low impact exercise class
DTSTART;TZID=America/Chicago:20271108T103000
DTEND;TZID=America/Chicago:20271108T113000
LOCATION:Kindred City Hall
SUMMARY:Kindred Bone Builders
END:VEVENT
END:VCALENDAR
