BEGIN:VCALENDAR
VERSION:2.0
PRODID:-//communityofcarend.com//NONSGML kigkonsult.se iCalcreator 2.30.10/
 /
CALSCALE:GREGORIAN
METHOD:PUBLISH
UID:11e9c5dd-b275-4254-9411-7a7a1bb67cb4
X-WR-CALDESC:Bone Builder Exercise Class
X-WR-RELCALID:b4a4a457c765174eb59591f299a3559d
X-WR-TIMEZONE:America/Chicago
BEGIN:VTIMEZONE
TZID:America/Chicago
BEGIN:STANDARD
TZNAME:CST
DTSTART:20271107T020000
TZOFFSETFROM:-0500
TZOFFSETTO:-0600
RDATE:20281105T020000
END:STANDARD
BEGIN:DAYLIGHT
TZNAME:CDT
DTSTART:20270314T020000
TZOFFSETFROM:-0600
TZOFFSETTO:-0500
RDATE:20280312T020000
RDATE:20290311T020000
END:DAYLIGHT
END:VTIMEZONE
BEGIN:VEVENT
UID:131976e5-b0f3-4c24-bd94-e786fc91da91
DTSTAMP:20260420T172900Z
DESCRIPTION:Bone Builder Exercise Class
DTSTART;TZID=America/Chicago:20271108T100000
DTEND;TZID=America/Chicago:20271108T110000
LOCATION:Horace Senior Center
SUMMARY:Horace Bone Builders
END:VEVENT
END:VCALENDAR
