BEGIN:VCALENDAR
VERSION:2.0
PRODID:-//communityofcarend.com//NONSGML kigkonsult.se iCalcreator 2.30.10/
 /
CALSCALE:GREGORIAN
METHOD:PUBLISH
UID:bb7e6a0c-589a-4a2d-aa70-84a182970ad0
X-WR-CALDESC:Low-impact exercise classes.
X-WR-RELCALID:88aae76e484e9972a60e4b68e1b7c23e
X-WR-TIMEZONE:America/Chicago
BEGIN:VTIMEZONE
TZID:America/Chicago
BEGIN:STANDARD
TZNAME:CST
DTSTART:20271107T020000
TZOFFSETFROM:-0500
TZOFFSETTO:-0600
RDATE:20281105T020000
END:STANDARD
BEGIN:DAYLIGHT
TZNAME:CDT
DTSTART:20270314T020000
TZOFFSETFROM:-0600
TZOFFSETTO:-0500
RDATE:20280312T020000
RDATE:20290311T020000
END:DAYLIGHT
END:VTIMEZONE
BEGIN:VEVENT
UID:f126a060-a8d6-4343-85aa-98829923263d
DTSTAMP:20260420T172831Z
DESCRIPTION:Low-impact exercise classes.
DTSTART;TZID=America/Chicago:20271105T103000
DTEND;TZID=America/Chicago:20271105T113000
LOCATION:Kindred City Hall
SUMMARY:Kindred Bone Builders
END:VEVENT
END:VCALENDAR
