BEGIN:VCALENDAR
VERSION:2.0
PRODID:-//communityofcarend.com//NONSGML kigkonsult.se iCalcreator 2.30.10/
 /
CALSCALE:GREGORIAN
METHOD:PUBLISH
UID:3d93918f-8c0a-42fa-9b98-bb81ebe662d8
X-WR-CALDESC:Bone Builder Exercise Class
X-WR-RELCALID:5e32d1cb854a4a38fe530fbe1407c9f4
X-WR-TIMEZONE:America/Chicago
BEGIN:VTIMEZONE
TZID:America/Chicago
BEGIN:STANDARD
TZNAME:CST
DTSTART:20271107T020000
TZOFFSETFROM:-0500
TZOFFSETTO:-0600
RDATE:20281105T020000
END:STANDARD
BEGIN:DAYLIGHT
TZNAME:CDT
DTSTART:20270314T020000
TZOFFSETFROM:-0600
TZOFFSETTO:-0500
RDATE:20280312T020000
RDATE:20290311T020000
END:DAYLIGHT
END:VTIMEZONE
BEGIN:VEVENT
UID:37606f1c-2ecf-4b44-944d-a81c3f5e73b3
DTSTAMP:20260420T173038Z
DESCRIPTION:Bone Builder Exercise Class
DTSTART;TZID=America/Chicago:20271104T100000
DTEND;TZID=America/Chicago:20271104T110000
LOCATION:Horace Senior Center
SUMMARY:Horace Bone Builders
END:VEVENT
END:VCALENDAR
