BEGIN:VCALENDAR
VERSION:2.0
PRODID:-//communityofcarend.com//NONSGML kigkonsult.se iCalcreator 2.30.10/
 /
CALSCALE:GREGORIAN
METHOD:PUBLISH
UID:f9a5f822-8fe8-427a-abde-99035fdd03f1
X-WR-CALDESC:Low-impact exercise classes.
X-WR-RELCALID:9ecaa47457166b7dc16cd39661c51098
X-WR-TIMEZONE:America/Chicago
BEGIN:VTIMEZONE
TZID:America/Chicago
BEGIN:STANDARD
TZNAME:CST
DTSTART:20261101T020000
TZOFFSETFROM:-0500
TZOFFSETTO:-0600
RDATE:20271107T020000
RDATE:20281105T020000
END:STANDARD
BEGIN:DAYLIGHT
TZNAME:CDT
DTSTART:20270314T020000
TZOFFSETFROM:-0600
TZOFFSETTO:-0500
RDATE:20280312T020000
RDATE:20290311T020000
END:DAYLIGHT
END:VTIMEZONE
BEGIN:VEVENT
UID:c749b0a6-20e3-4361-9c8e-511c1acb955d
DTSTAMP:20260420T160551Z
DESCRIPTION:Low-impact exercise classes.
DTSTART;TZID=America/Chicago:20271029T103000
DTEND;TZID=America/Chicago:20271029T113000
LOCATION:Kindred City Hall
SUMMARY:Kindred Bone Builders
END:VEVENT
END:VCALENDAR
