BEGIN:VCALENDAR
VERSION:2.0
PRODID:-//communityofcarend.com//NONSGML kigkonsult.se iCalcreator 2.30.10/
 /
CALSCALE:GREGORIAN
METHOD:PUBLISH
UID:f7b12541-06dd-445e-8967-709863c35e22
X-WR-CALDESC:Low-impact exercise classes.
X-WR-RELCALID:59b1247ab887fedc60bc8c4b52bcecf4
X-WR-TIMEZONE:America/Chicago
BEGIN:VTIMEZONE
TZID:America/Chicago
BEGIN:STANDARD
TZNAME:CST
DTSTART:20261101T020000
TZOFFSETFROM:-0500
TZOFFSETTO:-0600
RDATE:20271107T020000
RDATE:20281105T020000
END:STANDARD
BEGIN:DAYLIGHT
TZNAME:CDT
DTSTART:20270314T020000
TZOFFSETFROM:-0600
TZOFFSETTO:-0500
RDATE:20280312T020000
RDATE:20290311T020000
END:DAYLIGHT
END:VTIMEZONE
BEGIN:VEVENT
UID:ce01a0cc-5521-4ba1-9cec-ac4aaed16d8e
DTSTAMP:20260420T160605Z
DESCRIPTION:Low-impact exercise classes.
DTSTART;TZID=America/Chicago:20271022T103000
DTEND;TZID=America/Chicago:20271022T113000
LOCATION:Kindred City Hall
SUMMARY:Kindred Bone Builders
END:VEVENT
END:VCALENDAR
