BEGIN:VCALENDAR
VERSION:2.0
PRODID:-//communityofcarend.com//NONSGML kigkonsult.se iCalcreator 2.30.10/
 /
CALSCALE:GREGORIAN
METHOD:PUBLISH
UID:42467062-3ce6-4d48-b341-0002766d7be9
X-WR-CALDESC:
X-WR-RELCALID:1a6d02436d5f3ae3eafd1693158d0427
X-WR-TIMEZONE:America/Chicago
BEGIN:VTIMEZONE
TZID:America/Chicago
BEGIN:STANDARD
TZNAME:CST
DTSTART:20261101T020000
TZOFFSETFROM:-0500
TZOFFSETTO:-0600
RDATE:20271107T020000
RDATE:20281105T020000
END:STANDARD
BEGIN:DAYLIGHT
TZNAME:CDT
DTSTART:20270314T020000
TZOFFSETFROM:-0600
TZOFFSETTO:-0500
RDATE:20280312T020000
RDATE:20290311T020000
END:DAYLIGHT
END:VTIMEZONE
BEGIN:VEVENT
UID:edaf5630-e829-4842-89a0-f5a9df825f51
DTSTAMP:20260420T162020Z
DESCRIPTION:
DTSTART;TZID=America/Chicago:20271007T130000
DTEND;TZID=America/Chicago:20271007T140000
LOCATION:Harwood Community Center
SUMMARY:Harwood Bone Builders
END:VEVENT
END:VCALENDAR
