BEGIN:VCALENDAR
VERSION:2.0
PRODID:-//communityofcarend.com//NONSGML kigkonsult.se iCalcreator 2.30.10/
 /
CALSCALE:GREGORIAN
METHOD:PUBLISH
UID:1af1a386-553e-46d5-81d8-fee42b8fb4da
X-WR-CALDESC:Bone Builder Exercise Class
X-WR-RELCALID:826b0300eb1c16ec3bef515a609dfe68
X-WR-TIMEZONE:America/Chicago
BEGIN:VTIMEZONE
TZID:America/Chicago
BEGIN:STANDARD
TZNAME:CST
DTSTART:20261101T020000
TZOFFSETFROM:-0500
TZOFFSETTO:-0600
RDATE:20271107T020000
RDATE:20281105T020000
END:STANDARD
BEGIN:DAYLIGHT
TZNAME:CDT
DTSTART:20270314T020000
TZOFFSETFROM:-0600
TZOFFSETTO:-0500
RDATE:20280312T020000
RDATE:20290311T020000
END:DAYLIGHT
END:VTIMEZONE
BEGIN:VEVENT
UID:5e10757d-fd5d-4a6c-ae35-7f1140a5e956
DTSTAMP:20260420T144007Z
DESCRIPTION:Bone Builder Exercise Class
DTSTART;TZID=America/Chicago:20270930T100000
DTEND;TZID=America/Chicago:20270930T110000
LOCATION:Horace Senior Center
SUMMARY:Horace Bone Builders
END:VEVENT
END:VCALENDAR
