BEGIN:VCALENDAR
VERSION:2.0
PRODID:-//communityofcarend.com//NONSGML kigkonsult.se iCalcreator 2.30.10/
 /
CALSCALE:GREGORIAN
METHOD:PUBLISH
UID:6781360d-8c27-467d-9778-91b09464aa81
X-WR-CALDESC:Bone Builder Exercise Class
X-WR-RELCALID:32309d42b08f9a01d983210967d5d8d2
X-WR-TIMEZONE:America/Chicago
BEGIN:VTIMEZONE
TZID:America/Chicago
BEGIN:STANDARD
TZNAME:CST
DTSTART:20261101T020000
TZOFFSETFROM:-0500
TZOFFSETTO:-0600
RDATE:20271107T020000
RDATE:20281105T020000
END:STANDARD
BEGIN:DAYLIGHT
TZNAME:CDT
DTSTART:20270314T020000
TZOFFSETFROM:-0600
TZOFFSETTO:-0500
RDATE:20280312T020000
RDATE:20290311T020000
END:DAYLIGHT
END:VTIMEZONE
BEGIN:VEVENT
UID:407c1163-8986-4d2d-a776-77dc13a4bae3
DTSTAMP:20260420T144007Z
DESCRIPTION:Bone Builder Exercise Class
DTSTART;TZID=America/Chicago:20270923T100000
DTEND;TZID=America/Chicago:20270923T110000
LOCATION:Horace Senior Center
SUMMARY:Horace Bone Builders
END:VEVENT
END:VCALENDAR
