BEGIN:VCALENDAR
VERSION:2.0
PRODID:-//communityofcarend.com//NONSGML kigkonsult.se iCalcreator 2.30.10/
 /
CALSCALE:GREGORIAN
METHOD:PUBLISH
UID:a4060dd9-3fa5-4c46-a675-34bd969d0b30
X-WR-CALDESC:
X-WR-RELCALID:bb2a04dffec43994878e6b9ac7596cbb
X-WR-TIMEZONE:America/Chicago
BEGIN:VTIMEZONE
TZID:America/Chicago
BEGIN:STANDARD
TZNAME:CST
DTSTART:20261101T020000
TZOFFSETFROM:-0500
TZOFFSETTO:-0600
RDATE:20271107T020000
RDATE:20281105T020000
END:STANDARD
BEGIN:DAYLIGHT
TZNAME:CDT
DTSTART:20270314T020000
TZOFFSETFROM:-0600
TZOFFSETTO:-0500
RDATE:20280312T020000
RDATE:20290311T020000
END:DAYLIGHT
END:VTIMEZONE
BEGIN:VEVENT
UID:4468c964-06e1-4b06-92e0-e7de9e916158
DTSTAMP:20260420T144832Z
DESCRIPTION:
DTSTART;TZID=America/Chicago:20270923T090000
DTEND;TZID=America/Chicago:20270923T100000
LOCATION:Tower City Community Center
SUMMARY:Tower City Bone Builders
END:VEVENT
END:VCALENDAR
