BEGIN:VCALENDAR
VERSION:2.0
PRODID:-//communityofcarend.com//NONSGML kigkonsult.se iCalcreator 2.30.10/
 /
CALSCALE:GREGORIAN
METHOD:PUBLISH
UID:33f23ad5-c16a-4f8c-b21d-4c8fe3fe3e8f
X-WR-CALDESC:Low impact exercise class
X-WR-RELCALID:f44c6d31708e00e0a419faf909eaf491
X-WR-TIMEZONE:America/Chicago
BEGIN:VTIMEZONE
TZID:America/Chicago
BEGIN:STANDARD
TZNAME:CST
DTSTART:20261101T020000
TZOFFSETFROM:-0500
TZOFFSETTO:-0600
RDATE:20271107T020000
RDATE:20281105T020000
END:STANDARD
BEGIN:DAYLIGHT
TZNAME:CDT
DTSTART:20270314T020000
TZOFFSETFROM:-0600
TZOFFSETTO:-0500
RDATE:20280312T020000
RDATE:20290311T020000
END:DAYLIGHT
END:VTIMEZONE
BEGIN:VEVENT
UID:7296b85e-d4da-44bb-bb10-ddff34415a1b
DTSTAMP:20260420T143714Z
DESCRIPTION:Low impact exercise class
DTSTART;TZID=America/Chicago:20270913T103000
DTEND;TZID=America/Chicago:20270913T113000
LOCATION:Kindred City Hall
SUMMARY:Kindred Bone Builders
END:VEVENT
END:VCALENDAR
