BEGIN:VCALENDAR
VERSION:2.0
PRODID:-//communityofcarend.com//NONSGML kigkonsult.se iCalcreator 2.30.10/
 /
CALSCALE:GREGORIAN
METHOD:PUBLISH
UID:838b0d68-123e-4b68-8e98-c42475249c20
X-WR-CALDESC:Low-impact exercise classes.
X-WR-RELCALID:436a96775fb604b092deecd2de0a0806
X-WR-TIMEZONE:America/Chicago
BEGIN:VTIMEZONE
TZID:America/Chicago
BEGIN:STANDARD
TZNAME:CST
DTSTART:20261101T020000
TZOFFSETFROM:-0500
TZOFFSETTO:-0600
RDATE:20271107T020000
RDATE:20281105T020000
END:STANDARD
BEGIN:DAYLIGHT
TZNAME:CDT
DTSTART:20270314T020000
TZOFFSETFROM:-0600
TZOFFSETTO:-0500
RDATE:20280312T020000
RDATE:20290311T020000
END:DAYLIGHT
END:VTIMEZONE
BEGIN:VEVENT
UID:adc2aa6e-159e-454d-b05a-3738ea7c7b21
DTSTAMP:20260420T143854Z
DESCRIPTION:Low-impact exercise classes.
DTSTART;TZID=America/Chicago:20270910T103000
DTEND;TZID=America/Chicago:20270910T113000
LOCATION:Kindred City Hall
SUMMARY:Kindred Bone Builders
END:VEVENT
END:VCALENDAR
