BEGIN:VCALENDAR
VERSION:2.0
PRODID:-//communityofcarend.com//NONSGML kigkonsult.se iCalcreator 2.30.10/
 /
CALSCALE:GREGORIAN
METHOD:PUBLISH
UID:2379a5ed-4293-4d46-adf0-55c6adc49050
X-WR-CALDESC:Low-impact exercise classes.
X-WR-RELCALID:b4cb414d2753e465f9884ae15659c662
X-WR-TIMEZONE:America/Chicago
BEGIN:VTIMEZONE
TZID:America/Chicago
BEGIN:STANDARD
TZNAME:CST
DTSTART:20261101T020000
TZOFFSETFROM:-0500
TZOFFSETTO:-0600
RDATE:20271107T020000
RDATE:20281105T020000
END:STANDARD
BEGIN:DAYLIGHT
TZNAME:CDT
DTSTART:20270314T020000
TZOFFSETFROM:-0600
TZOFFSETTO:-0500
RDATE:20280312T020000
END:DAYLIGHT
END:VTIMEZONE
BEGIN:VEVENT
UID:7a300be5-1854-4446-8c78-5733fa5355ed
DTSTAMP:20260420T143740Z
DESCRIPTION:Low-impact exercise classes.
DTSTART;TZID=America/Chicago:20270903T103000
DTEND;TZID=America/Chicago:20270903T113000
LOCATION:Kindred City Hall
SUMMARY:Kindred Bone Builders
END:VEVENT
END:VCALENDAR
