BEGIN:VCALENDAR
VERSION:2.0
PRODID:-//communityofcarend.com//NONSGML kigkonsult.se iCalcreator 2.30.10/
 /
CALSCALE:GREGORIAN
METHOD:PUBLISH
UID:befa1a60-7592-4ef8-ba23-1a488b46e57a
X-WR-CALDESC:Bone Builder Exercise Class
X-WR-RELCALID:8f69e90e31886ef63ff6d67e6e49e6af
X-WR-TIMEZONE:America/Chicago
BEGIN:VTIMEZONE
TZID:America/Chicago
BEGIN:STANDARD
TZNAME:CST
DTSTART:20261101T020000
TZOFFSETFROM:-0500
TZOFFSETTO:-0600
RDATE:20271107T020000
RDATE:20281105T020000
END:STANDARD
BEGIN:DAYLIGHT
TZNAME:CDT
DTSTART:20270314T020000
TZOFFSETFROM:-0600
TZOFFSETTO:-0500
RDATE:20280312T020000
END:DAYLIGHT
END:VTIMEZONE
BEGIN:VEVENT
UID:5ed53cce-79ec-44ad-998a-a4fbbd385fdb
DTSTAMP:20260420T132956Z
DESCRIPTION:Bone Builder Exercise Class
DTSTART;TZID=America/Chicago:20270826T100000
DTEND;TZID=America/Chicago:20270826T110000
LOCATION:Horace Senior Center
SUMMARY:Horace Bone Builders
END:VEVENT
END:VCALENDAR
