BEGIN:VCALENDAR
VERSION:2.0
PRODID:-//communityofcarend.com//NONSGML kigkonsult.se iCalcreator 2.30.10/
 /
CALSCALE:GREGORIAN
METHOD:PUBLISH
UID:5788813b-e4a6-4c66-af39-f2289bfee042
X-WR-CALDESC:Low impact exercise class
X-WR-RELCALID:102af4d3986347c83d0b838cc9fd11b6
X-WR-TIMEZONE:America/Chicago
BEGIN:VTIMEZONE
TZID:America/Chicago
BEGIN:STANDARD
TZNAME:CST
DTSTART:20261101T020000
TZOFFSETFROM:-0500
TZOFFSETTO:-0600
RDATE:20271107T020000
RDATE:20281105T020000
END:STANDARD
BEGIN:DAYLIGHT
TZNAME:CDT
DTSTART:20270314T020000
TZOFFSETFROM:-0600
TZOFFSETTO:-0500
RDATE:20280312T020000
END:DAYLIGHT
END:VTIMEZONE
BEGIN:VEVENT
UID:6bef06fe-e51a-478a-9f45-5df5250aeb0b
DTSTAMP:20260420T130517Z
DESCRIPTION:Low impact exercise class
DTSTART;TZID=America/Chicago:20270823T103000
DTEND;TZID=America/Chicago:20270823T113000
LOCATION:Kindred City Hall
SUMMARY:Kindred Bone Builders
END:VEVENT
END:VCALENDAR
