BEGIN:VCALENDAR
VERSION:2.0
PRODID:-//communityofcarend.com//NONSGML kigkonsult.se iCalcreator 2.30.10/
 /
CALSCALE:GREGORIAN
METHOD:PUBLISH
UID:d75f93ec-3798-463e-bbe5-69d4b7b2aec1
X-WR-CALDESC:Bone Builder Exercise Class
X-WR-RELCALID:1974052bb887d79f034f8abbf5436192
X-WR-TIMEZONE:America/Chicago
BEGIN:VTIMEZONE
TZID:America/Chicago
BEGIN:STANDARD
TZNAME:CST
DTSTART:20261101T020000
TZOFFSETFROM:-0500
TZOFFSETTO:-0600
RDATE:20271107T020000
RDATE:20281105T020000
END:STANDARD
BEGIN:DAYLIGHT
TZNAME:CDT
DTSTART:20270314T020000
TZOFFSETFROM:-0600
TZOFFSETTO:-0500
RDATE:20280312T020000
END:DAYLIGHT
END:VTIMEZONE
BEGIN:VEVENT
UID:723c449f-1b27-45f0-9226-69b5f6002a05
DTSTAMP:20260420T130652Z
DESCRIPTION:Bone Builder Exercise Class
DTSTART;TZID=America/Chicago:20270823T100000
DTEND;TZID=America/Chicago:20270823T110000
LOCATION:Horace Senior Center
SUMMARY:Horace Bone Builders
END:VEVENT
END:VCALENDAR
