BEGIN:VCALENDAR
VERSION:2.0
PRODID:-//communityofcarend.com//NONSGML kigkonsult.se iCalcreator 2.30.10/
 /
CALSCALE:GREGORIAN
METHOD:PUBLISH
UID:5a79f420-ba15-4ef9-a10a-8cc0c5240d44
X-WR-CALDESC:Bone Builder Exercise Class
X-WR-RELCALID:b922a647cbe9c080a01f2589acfd1986
X-WR-TIMEZONE:America/Chicago
BEGIN:VTIMEZONE
TZID:America/Chicago
BEGIN:STANDARD
TZNAME:CST
DTSTART:20261101T020000
TZOFFSETFROM:-0500
TZOFFSETTO:-0600
RDATE:20271107T020000
RDATE:20281105T020000
END:STANDARD
BEGIN:DAYLIGHT
TZNAME:CDT
DTSTART:20270314T020000
TZOFFSETFROM:-0600
TZOFFSETTO:-0500
RDATE:20280312T020000
END:DAYLIGHT
END:VTIMEZONE
BEGIN:VEVENT
UID:7813e307-40b2-4dae-8856-72f99b7c9388
DTSTAMP:20260420T130759Z
DESCRIPTION:Bone Builder Exercise Class
DTSTART;TZID=America/Chicago:20270819T100000
DTEND;TZID=America/Chicago:20270819T110000
LOCATION:Horace Senior Center
SUMMARY:Horace Bone Builders
END:VEVENT
END:VCALENDAR
