BEGIN:VCALENDAR
VERSION:2.0
PRODID:-//communityofcarend.com//NONSGML kigkonsult.se iCalcreator 2.30.10/
 /
CALSCALE:GREGORIAN
METHOD:PUBLISH
UID:19d70275-47f2-45b7-9c30-bfc62967e070
X-WR-CALDESC:Bone Builder Exercise Class
X-WR-RELCALID:7c31205525e57f37c30d9733c6859493
X-WR-TIMEZONE:America/Chicago
BEGIN:VTIMEZONE
TZID:America/Chicago
BEGIN:STANDARD
TZNAME:CST
DTSTART:20261101T020000
TZOFFSETFROM:-0500
TZOFFSETTO:-0600
RDATE:20271107T020000
RDATE:20281105T020000
END:STANDARD
BEGIN:DAYLIGHT
TZNAME:CDT
DTSTART:20270314T020000
TZOFFSETFROM:-0600
TZOFFSETTO:-0500
RDATE:20280312T020000
END:DAYLIGHT
END:VTIMEZONE
BEGIN:VEVENT
UID:f709064f-1f6b-4fd4-a44d-8dbe678ed941
DTSTAMP:20260420T130500Z
DESCRIPTION:Bone Builder Exercise Class
DTSTART;TZID=America/Chicago:20270802T100000
DTEND;TZID=America/Chicago:20270802T110000
LOCATION:Horace Senior Center
SUMMARY:Horace Bone Builders
END:VEVENT
END:VCALENDAR
