BEGIN:VCALENDAR
VERSION:2.0
PRODID:-//communityofcarend.com//NONSGML kigkonsult.se iCalcreator 2.30.10/
 /
CALSCALE:GREGORIAN
METHOD:PUBLISH
UID:027a1f39-71a4-4169-94e2-c7c3cae9bd50
X-WR-CALDESC:Low-impact exercise classes.
X-WR-RELCALID:41c9b846a5af46643e7bed21767b713a
X-WR-TIMEZONE:America/Chicago
BEGIN:VTIMEZONE
TZID:America/Chicago
BEGIN:STANDARD
TZNAME:CST
DTSTART:20261101T020000
TZOFFSETFROM:-0500
TZOFFSETTO:-0600
RDATE:20271107T020000
RDATE:20281105T020000
END:STANDARD
BEGIN:DAYLIGHT
TZNAME:CDT
DTSTART:20270314T020000
TZOFFSETFROM:-0600
TZOFFSETTO:-0500
RDATE:20280312T020000
END:DAYLIGHT
END:VTIMEZONE
BEGIN:VEVENT
UID:9d1fc0a4-9b60-4769-96d7-9c3b2b848599
DTSTAMP:20260420T113731Z
DESCRIPTION:Low-impact exercise classes.
DTSTART;TZID=America/Chicago:20270730T103000
DTEND;TZID=America/Chicago:20270730T113000
LOCATION:Kindred City Hall
SUMMARY:Kindred Bone Builders
END:VEVENT
END:VCALENDAR
