BEGIN:VCALENDAR
VERSION:2.0
PRODID:-//communityofcarend.com//NONSGML kigkonsult.se iCalcreator 2.30.10/
 /
CALSCALE:GREGORIAN
METHOD:PUBLISH
UID:cf1ad82d-4f30-48ae-bbb2-3220cafd448d
X-WR-CALDESC:Bone Builder Exercise Class
X-WR-RELCALID:832af6c6eb6a69d581f30a71a4f5068c
X-WR-TIMEZONE:America/Chicago
BEGIN:VTIMEZONE
TZID:America/Chicago
BEGIN:STANDARD
TZNAME:CST
DTSTART:20261101T020000
TZOFFSETFROM:-0500
TZOFFSETTO:-0600
RDATE:20271107T020000
RDATE:20281105T020000
END:STANDARD
BEGIN:DAYLIGHT
TZNAME:CDT
DTSTART:20270314T020000
TZOFFSETFROM:-0600
TZOFFSETTO:-0500
RDATE:20280312T020000
END:DAYLIGHT
END:VTIMEZONE
BEGIN:VEVENT
UID:af56d026-d84e-4287-bcd5-638de4678a1d
DTSTAMP:20260420T113910Z
DESCRIPTION:Bone Builder Exercise Class
DTSTART;TZID=America/Chicago:20270729T100000
DTEND;TZID=America/Chicago:20270729T110000
LOCATION:Horace Senior Center
SUMMARY:Horace Bone Builders
END:VEVENT
END:VCALENDAR
