BEGIN:VCALENDAR
VERSION:2.0
PRODID:-//communityofcarend.com//NONSGML kigkonsult.se iCalcreator 2.30.10/
 /
CALSCALE:GREGORIAN
METHOD:PUBLISH
UID:34f74ae0-d53b-4198-a19e-feff62823a2b
X-WR-CALDESC:Low-impact exercise classes.
X-WR-RELCALID:c092e3dd45a02aac2bdfab5984d263b0
X-WR-TIMEZONE:America/Chicago
BEGIN:VTIMEZONE
TZID:America/Chicago
BEGIN:STANDARD
TZNAME:CST
DTSTART:20261101T020000
TZOFFSETFROM:-0500
TZOFFSETTO:-0600
RDATE:20271107T020000
RDATE:20281105T020000
END:STANDARD
BEGIN:DAYLIGHT
TZNAME:CDT
DTSTART:20270314T020000
TZOFFSETFROM:-0600
TZOFFSETTO:-0500
RDATE:20280312T020000
END:DAYLIGHT
END:VTIMEZONE
BEGIN:VEVENT
UID:50b7504a-7c5f-4b95-b851-b3f98ced2194
DTSTAMP:20260420T113554Z
DESCRIPTION:Low-impact exercise classes.
DTSTART;TZID=America/Chicago:20270716T103000
DTEND;TZID=America/Chicago:20270716T113000
LOCATION:Kindred City Hall
SUMMARY:Kindred Bone Builders
END:VEVENT
END:VCALENDAR
